Package: frma Version: 1.61.0 Command: rm -rf frma.buildbin-libdir && mkdir frma.buildbin-libdir && /Users/biocbuild/BBS/utils/build-universal.sh frma_1.61.0.tar.gz /Library/Frameworks/R.framework/Resources/bin/R frma.buildbin-libdir StartedAt: 2025-07-14 00:58:00 -0400 (Mon, 14 Jul 2025) EndedAt: 2025-07-14 00:58:43 -0400 (Mon, 14 Jul 2025) EllapsedTime: 43.0 seconds RetCode: 0 Status: OK PackageFile: frma_1.61.0.tgz PackageFileSize: 732 KiB