Package: frma Version: 1.61.0 Command: /Library/Frameworks/R.framework/Resources/bin/R CMD build --keep-empty-dirs --no-resave-data frma StartedAt: 2025-07-14 16:20:37 -0400 (Mon, 14 Jul 2025) EndedAt: 2025-07-14 16:21:05 -0400 (Mon, 14 Jul 2025) EllapsedTime: 28.3 seconds RetCode: 0 Status: OK PackageFile: frma_1.61.0.tar.gz PackageFileSize: 288 KiB