Package: frenchFISH Version: 1.21.0 Command: F:\biocbuild\bbs-3.22-bioc\R\bin\R.exe CMD INSTALL frenchFISH StartedAt: 2025-07-24 15:37:52 -0400 (Thu, 24 Jul 2025) EndedAt: 2025-07-24 15:38:05 -0400 (Thu, 24 Jul 2025) EllapsedTime: 13.2 seconds RetCode: 0 Status: OK