Package: frenchFISH Version: 1.21.0 Command: /Library/Frameworks/R.framework/Resources/bin/R CMD build --keep-empty-dirs --no-resave-data frenchFISH StartedAt: 2025-07-16 16:57:36 -0400 (Wed, 16 Jul 2025) EndedAt: 2025-07-16 16:57:44 -0400 (Wed, 16 Jul 2025) EllapsedTime: 8.0 seconds RetCode: 0 Status: OK PackageFile: frenchFISH_1.21.0.tar.gz PackageFileSize: 20.99 KiB