Package: frenchFISH Version: 1.21.0 Command: /Library/Frameworks/R.framework/Resources/bin/R CMD check --install=check:frenchFISH.install-out.txt --library=/Library/Frameworks/R.framework/Resources/library --no-vignettes --timings frenchFISH_1.21.0.tar.gz StartedAt: 2025-06-29 19:17:49 -0400 (Sun, 29 Jun 2025) EndedAt: 2025-06-29 19:18:01 -0400 (Sun, 29 Jun 2025) EllapsedTime: 12.2 seconds RetCode: 0 Status: OK CheckDir: frenchFISH.Rcheck Warnings: 0