Package: fobitools Version: 1.17.0 Command: /home/biocbuild/R/R/bin/R CMD INSTALL fobitools StartedAt: 2025-07-21 20:31:31 -0000 (Mon, 21 Jul 2025) EndedAt: 2025-07-21 20:32:01 -0000 (Mon, 21 Jul 2025) EllapsedTime: 30.1 seconds RetCode: 0 Status: OK