Package: fobitools Version: 1.17.0 Command: /home/biocbuild/R/R/bin/R CMD check --install=check:fobitools.install-out.txt --library=/home/biocbuild/R/R/site-library --no-vignettes --timings fobitools_1.17.0.tar.gz StartedAt: 2025-07-22 07:22:03 -0000 (Tue, 22 Jul 2025) EndedAt: 2025-07-22 07:28:24 -0000 (Tue, 22 Jul 2025) EllapsedTime: 381.2 seconds RetCode: 0 Status: OK CheckDir: fobitools.Rcheck Warnings: 0