Package: fobitools Version: 1.17.0 Command: /home/biocbuild/R/R/bin/R CMD build --keep-empty-dirs --no-resave-data fobitools StartedAt: 2025-07-21 23:48:30 -0000 (Mon, 21 Jul 2025) EndedAt: 2025-07-21 23:50:04 -0000 (Mon, 21 Jul 2025) EllapsedTime: 94.0 seconds RetCode: 0 Status: OK PackageFile: fobitools_1.17.0.tar.gz PackageFileSize: 3.457 MiB