Package: fobitools Version: 1.17.0 Command: rm -rf fobitools.buildbin-libdir && mkdir fobitools.buildbin-libdir && F:\biocbuild\bbs-3.22-bioc\R\bin\R.exe CMD INSTALL --build --library=fobitools.buildbin-libdir fobitools_1.17.0.tar.gz StartedAt: 2025-08-15 10:17:57 -0400 (Fri, 15 Aug 2025) EndedAt: 2025-08-15 10:18:32 -0400 (Fri, 15 Aug 2025) EllapsedTime: 35.2 seconds RetCode: 0 Status: OK PackageFile: fobitools_1.17.0.zip PackageFileSize: 2.477 MiB