Package: flowcatchR Version: 1.43.0 Command: /home/biocbuild/R/R/bin/R CMD INSTALL flowcatchR StartedAt: 2025-06-30 20:29:56 -0000 (Mon, 30 Jun 2025) EndedAt: 2025-06-30 20:30:08 -0000 (Mon, 30 Jun 2025) EllapsedTime: 12.8 seconds RetCode: 0 Status: OK