Package: flowcatchR Version: 1.43.0 Command: /home/biocbuild/R/R/bin/R CMD check --install=check:flowcatchR.install-out.txt --library=/home/biocbuild/R/R/site-library --no-vignettes --timings flowcatchR_1.43.0.tar.gz StartedAt: 2025-07-01 07:25:48 -0000 (Tue, 01 Jul 2025) EndedAt: 2025-07-01 07:27:05 -0000 (Tue, 01 Jul 2025) EllapsedTime: 76.1 seconds RetCode: 0 Status: OK CheckDir: flowcatchR.Rcheck Warnings: 0