Package: flowViz Version: 1.73.0 Command: /home/biocbuild/bbs-3.22-bioc/R/bin/R CMD check --install=check:flowViz.install-out.txt --library=/home/biocbuild/bbs-3.22-bioc/R/site-library --timings flowViz_1.73.0.tar.gz StartedAt: 2025-07-21 22:29:17 -0400 (Mon, 21 Jul 2025) EndedAt: 2025-07-21 22:32:14 -0400 (Mon, 21 Jul 2025) EllapsedTime: 176.3 seconds RetCode: 0 Status: OK CheckDir: flowViz.Rcheck Warnings: 0