Package: flowViz Version: 1.73.0 Command: /home/biocbuild/bbs-3.22-bioc/R/bin/R CMD build --keep-empty-dirs --no-resave-data --md5 flowViz StartedAt: 2025-07-21 17:21:34 -0400 (Mon, 21 Jul 2025) EndedAt: 2025-07-21 17:22:47 -0400 (Mon, 21 Jul 2025) EllapsedTime: 73.1 seconds RetCode: 0 Status: OK PackageFile: flowViz_1.73.0.tar.gz PackageFileSize: 991.7 KiB