Package: flowViz Version: 1.73.0 Command: /Library/Frameworks/R.framework/Resources/bin/R CMD check --install=check:flowViz.install-out.txt --library=/Library/Frameworks/R.framework/Resources/library --no-vignettes --timings flowViz_1.73.0.tar.gz StartedAt: 2025-07-23 19:19:49 -0400 (Wed, 23 Jul 2025) EndedAt: 2025-07-23 19:20:39 -0400 (Wed, 23 Jul 2025) EllapsedTime: 49.7 seconds RetCode: 0 Status: OK CheckDir: flowViz.Rcheck Warnings: 0