Package: flowViz Version: 1.73.0 Command: /Library/Frameworks/R.framework/Resources/bin/R CMD build --keep-empty-dirs --no-resave-data flowViz StartedAt: 2025-07-23 16:21:21 -0400 (Wed, 23 Jul 2025) EndedAt: 2025-07-23 16:21:50 -0400 (Wed, 23 Jul 2025) EllapsedTime: 28.3 seconds RetCode: 0 Status: OK PackageFile: flowViz_1.73.0.tar.gz PackageFileSize: 1.194 MiB