Package: flowViz Version: 1.73.0 Command: rm -rf flowViz.buildbin-libdir && mkdir flowViz.buildbin-libdir && /Users/biocbuild/BBS/utils/build-universal.sh flowViz_1.73.0.tar.gz /Library/Frameworks/R.framework/Resources/bin/R flowViz.buildbin-libdir StartedAt: 2025-07-23 22:24:11 -0400 (Wed, 23 Jul 2025) EndedAt: 2025-07-23 22:24:16 -0400 (Wed, 23 Jul 2025) EllapsedTime: 5.1 seconds RetCode: 0 Status: OK PackageFile: flowViz_1.73.0.tgz PackageFileSize: 1.479 MiB