Package: flowVS Version: 1.41.0 Command: /home/biocbuild/R/R/bin/R CMD INSTALL flowVS StartedAt: 2025-07-21 21:03:20 -0000 (Mon, 21 Jul 2025) EndedAt: 2025-07-21 21:03:40 -0000 (Mon, 21 Jul 2025) EllapsedTime: 20.3 seconds RetCode: 0 Status: OK