Package: flowVS Version: 1.41.0 Command: /home/biocbuild/R/R/bin/R CMD check --install=check:flowVS.install-out.txt --library=/home/biocbuild/R/R/site-library --no-vignettes --timings flowVS_1.41.0.tar.gz StartedAt: 2025-07-22 07:21:11 -0000 (Tue, 22 Jul 2025) EndedAt: 2025-07-22 07:23:33 -0000 (Tue, 22 Jul 2025) EllapsedTime: 142.1 seconds RetCode: 0 Status: OK CheckDir: flowVS.Rcheck Warnings: 0