Package: flowVS Version: 1.41.0 Command: /home/biocbuild/R/R/bin/R CMD build --keep-empty-dirs --no-resave-data flowVS StartedAt: 2025-07-21 23:48:01 -0000 (Mon, 21 Jul 2025) EndedAt: 2025-07-21 23:50:51 -0000 (Mon, 21 Jul 2025) EllapsedTime: 170.1 seconds RetCode: 0 Status: OK PackageFile: flowVS_1.41.0.tar.gz PackageFileSize: 3.691 MiB