Package: flowTime Version: 1.33.0 Command: F:\biocbuild\bbs-3.22-bioc\R\bin\R.exe CMD INSTALL flowTime StartedAt: 2025-07-14 15:43:29 -0400 (Mon, 14 Jul 2025) EndedAt: 2025-07-14 15:44:04 -0400 (Mon, 14 Jul 2025) EllapsedTime: 34.6 seconds RetCode: 0 Status: OK