Package: flowStats Version: 4.21.0 Command: /home/biocbuild/R/R/bin/R CMD build --keep-empty-dirs --no-resave-data flowStats StartedAt: 2025-06-30 23:40:27 -0000 (Mon, 30 Jun 2025) EndedAt: 2025-06-30 23:42:38 -0000 (Mon, 30 Jun 2025) EllapsedTime: 131.1 seconds RetCode: 0 Status: OK PackageFile: flowStats_4.21.0.tar.gz PackageFileSize: 10.96 MiB