Package: flowStats Version: 4.21.0 Command: /Library/Frameworks/R.framework/Resources/bin/R CMD INSTALL flowStats StartedAt: 2025-07-01 15:18:30 -0400 (Tue, 01 Jul 2025) EndedAt: 2025-07-01 15:18:39 -0400 (Tue, 01 Jul 2025) EllapsedTime: 9.2 seconds RetCode: 0 Status: OK