Package: flowStats Version: 4.21.0 Command: /Library/Frameworks/R.framework/Resources/bin/R CMD build --keep-empty-dirs --no-resave-data flowStats StartedAt: 2025-07-01 16:19:38 -0400 (Tue, 01 Jul 2025) EndedAt: 2025-07-01 16:20:19 -0400 (Tue, 01 Jul 2025) EllapsedTime: 40.5 seconds RetCode: 0 Status: OK PackageFile: flowStats_4.21.0.tar.gz PackageFileSize: 10.95 MiB