Package: flowSpecs Version: 1.23.0 Command: F:\biocbuild\bbs-3.22-bioc\R\bin\R.exe CMD check --no-multiarch --install=check:flowSpecs.install-out.txt --library=F:\biocbuild\bbs-3.22-bioc\R\library --no-vignettes --timings flowSpecs_1.23.0.tar.gz StartedAt: 2025-07-23 02:13:08 -0400 (Wed, 23 Jul 2025) EndedAt: 2025-07-23 02:15:28 -0400 (Wed, 23 Jul 2025) EllapsedTime: 139.8 seconds RetCode: 0 Status: OK CheckDir: flowSpecs.Rcheck Warnings: 0