Package: flowSpecs Version: 1.23.0 Command: chmod a+r flowSpecs -R && F:\biocbuild\bbs-3.22-bioc\R\bin\R.exe CMD build --keep-empty-dirs --no-resave-data flowSpecs StartedAt: 2025-07-22 19:10:07 -0400 (Tue, 22 Jul 2025) EndedAt: 2025-07-22 19:11:42 -0400 (Tue, 22 Jul 2025) EllapsedTime: 95.1 seconds RetCode: 0 Status: OK PackageFile: flowSpecs_1.23.0.tar.gz PackageFileSize: 3.263 MiB