Package: flowSpecs Version: 1.23.0 Command: rm -rf flowSpecs.buildbin-libdir && mkdir flowSpecs.buildbin-libdir && F:\biocbuild\bbs-3.22-bioc\R\bin\R.exe CMD INSTALL --build --library=flowSpecs.buildbin-libdir flowSpecs_1.23.0.tar.gz StartedAt: 2025-07-23 09:08:14 -0400 (Wed, 23 Jul 2025) EndedAt: 2025-07-23 09:08:40 -0400 (Wed, 23 Jul 2025) EllapsedTime: 26.2 seconds RetCode: 0 Status: OK PackageFile: flowSpecs_1.23.0.zip PackageFileSize: 3.315 MiB