Package: flowSpecs Version: 1.23.0 Command: /Library/Frameworks/R.framework/Resources/bin/R CMD INSTALL flowSpecs StartedAt: 2025-07-22 15:07:32 -0400 (Tue, 22 Jul 2025) EndedAt: 2025-07-22 15:07:36 -0400 (Tue, 22 Jul 2025) EllapsedTime: 4.2 seconds RetCode: 0 Status: OK