Package: flowPlots Version: 1.57.0 Command: F:\biocbuild\bbs-3.22-bioc\R\bin\R.exe CMD INSTALL flowPlots StartedAt: 2025-07-22 15:19:24 -0400 (Tue, 22 Jul 2025) EndedAt: 2025-07-22 15:20:00 -0400 (Tue, 22 Jul 2025) EllapsedTime: 35.8 seconds RetCode: 0 Status: OK