Package: flowPlots Version: 1.57.0 Command: F:\biocbuild\bbs-3.22-bioc\R\bin\R.exe CMD check --no-multiarch --install=check:flowPlots.install-out.txt --library=F:\biocbuild\bbs-3.22-bioc\R\library --no-vignettes --timings flowPlots_1.57.0.tar.gz StartedAt: 2025-07-23 02:12:54 -0400 (Wed, 23 Jul 2025) EndedAt: 2025-07-23 02:13:45 -0400 (Wed, 23 Jul 2025) EllapsedTime: 50.7 seconds RetCode: 0 Status: OK CheckDir: flowPlots.Rcheck Warnings: 0