Package: flowPlots Version: 1.57.0 Command: chmod a+r flowPlots -R && F:\biocbuild\bbs-3.22-bioc\R\bin\R.exe CMD build --keep-empty-dirs --no-resave-data flowPlots StartedAt: 2025-07-22 19:09:44 -0400 (Tue, 22 Jul 2025) EndedAt: 2025-07-22 19:10:06 -0400 (Tue, 22 Jul 2025) EllapsedTime: 22.0 seconds RetCode: 0 Status: OK PackageFile: flowPlots_1.57.0.tar.gz PackageFileSize: 454.6 KiB