Package: flowPlots Version: 1.57.0 Command: rm -rf flowPlots.buildbin-libdir && mkdir flowPlots.buildbin-libdir && F:\biocbuild\bbs-3.22-bioc\R\bin\R.exe CMD INSTALL --build --library=flowPlots.buildbin-libdir flowPlots_1.57.0.tar.gz StartedAt: 2025-07-23 09:08:10 -0400 (Wed, 23 Jul 2025) EndedAt: 2025-07-23 09:08:52 -0400 (Wed, 23 Jul 2025) EllapsedTime: 41.7 seconds RetCode: 0 Status: OK PackageFile: flowPlots_1.57.0.zip PackageFileSize: 669 KiB