Package: flowPlots Version: 1.57.0 Command: /Library/Frameworks/R.framework/Resources/bin/R CMD INSTALL flowPlots StartedAt: 2025-07-13 15:02:03 -0400 (Sun, 13 Jul 2025) EndedAt: 2025-07-13 15:02:05 -0400 (Sun, 13 Jul 2025) EllapsedTime: 2.5 seconds RetCode: 0 Status: OK