Package: flowPlots Version: 1.57.0 Command: /Library/Frameworks/R.framework/Resources/bin/R CMD build --keep-empty-dirs --no-resave-data flowPlots StartedAt: 2025-07-13 16:19:30 -0400 (Sun, 13 Jul 2025) EndedAt: 2025-07-13 16:19:37 -0400 (Sun, 13 Jul 2025) EllapsedTime: 7.1 seconds RetCode: 0 Status: OK PackageFile: flowPlots_1.57.0.tar.gz PackageFileSize: 635.4 KiB