Package: flowPloidy Version: 1.35.0 Command: /home/biocbuild/R/R/bin/R CMD build --keep-empty-dirs --no-resave-data flowPloidy StartedAt: 2025-07-25 00:39:25 -0000 (Fri, 25 Jul 2025) EndedAt: 2025-07-25 00:39:59 -0000 (Fri, 25 Jul 2025) EllapsedTime: 34.0 seconds RetCode: 0 Status: OK PackageFile: flowPloidy_1.35.0.tar.gz PackageFileSize: 2.315 MiB