Package: flowPloidy Version: 1.35.0 Command: F:\biocbuild\bbs-3.22-bioc\R\bin\R.exe CMD INSTALL flowPloidy StartedAt: 2025-07-20 16:34:20 -0400 (Sun, 20 Jul 2025) EndedAt: 2025-07-20 16:35:04 -0400 (Sun, 20 Jul 2025) EllapsedTime: 44.3 seconds RetCode: 0 Status: OK