Package: flowPloidy Version: 1.35.0 Command: F:\biocbuild\bbs-3.22-bioc\R\bin\R.exe CMD check --no-multiarch --install=check:flowPloidy.install-out.txt --library=F:\biocbuild\bbs-3.22-bioc\R\library --no-vignettes --timings flowPloidy_1.35.0.tar.gz StartedAt: 2025-07-21 02:10:33 -0400 (Mon, 21 Jul 2025) EndedAt: 2025-07-21 02:12:21 -0400 (Mon, 21 Jul 2025) EllapsedTime: 108.1 seconds RetCode: 0 Status: OK CheckDir: flowPloidy.Rcheck Warnings: 0