Package: flowPloidy Version: 1.35.0 Command: /Library/Frameworks/R.framework/Resources/bin/R CMD INSTALL flowPloidy StartedAt: 2025-07-04 15:15:46 -0400 (Fri, 04 Jul 2025) EndedAt: 2025-07-04 15:16:06 -0400 (Fri, 04 Jul 2025) EllapsedTime: 20.0 seconds RetCode: 0 Status: OK