Package: flowPloidy Version: 1.35.0 Command: /Library/Frameworks/R.framework/Resources/bin/R CMD build --keep-empty-dirs --no-resave-data flowPloidy StartedAt: 2025-07-04 16:49:22 -0400 (Fri, 04 Jul 2025) EndedAt: 2025-07-04 16:49:59 -0400 (Fri, 04 Jul 2025) EllapsedTime: 37.7 seconds RetCode: 0 Status: OK PackageFile: flowPloidy_1.35.0.tar.gz PackageFileSize: 2.332 MiB