Package: flowPeaks Version: 1.55.0 Command: /home/biocbuild/R/R/bin/R CMD INSTALL flowPeaks StartedAt: 2025-06-30 20:13:17 -0000 (Mon, 30 Jun 2025) EndedAt: 2025-06-30 20:13:44 -0000 (Mon, 30 Jun 2025) EllapsedTime: 27.6 seconds RetCode: 0 Status: OK