Package: flowPeaks Version: 1.55.0 Command: /Library/Frameworks/R.framework/Resources/bin/R CMD build --keep-empty-dirs --no-resave-data flowPeaks StartedAt: 2025-07-01 17:01:23 -0400 (Tue, 01 Jul 2025) EndedAt: 2025-07-01 17:01:59 -0400 (Tue, 01 Jul 2025) EllapsedTime: 36.6 seconds RetCode: 0 Status: OK PackageFile: flowPeaks_1.55.0.tar.gz PackageFileSize: 3.904 MiB