Package: flowPeaks Version: 1.55.0 Command: rm -rf flowPeaks.buildbin-libdir && mkdir flowPeaks.buildbin-libdir && /Users/biocbuild/BBS/utils/build-universal.sh flowPeaks_1.55.0.tar.gz /Library/Frameworks/R.framework/Resources/bin/R flowPeaks.buildbin-libdir StartedAt: 2025-07-02 00:57:40 -0400 (Wed, 02 Jul 2025) EndedAt: 2025-07-02 00:58:04 -0400 (Wed, 02 Jul 2025) EllapsedTime: 24.5 seconds RetCode: 0 Status: OK PackageFile: flowPeaks_1.55.0.tgz PackageFileSize: 4.267 MiB