Package: flowPeaks Version: 1.55.0 Command: /Library/Frameworks/R.framework/Resources/bin/R CMD build --keep-empty-dirs --no-resave-data flowPeaks StartedAt: 2025-07-13 16:19:21 -0400 (Sun, 13 Jul 2025) EndedAt: 2025-07-13 16:19:37 -0400 (Sun, 13 Jul 2025) EllapsedTime: 16.2 seconds RetCode: 0 Status: OK PackageFile: flowPeaks_1.55.0.tar.gz PackageFileSize: 3.904 MiB