Package: flowMerge Version: 2.57.0 Command: /home/biocbuild/R/R/bin/R CMD INSTALL flowMerge StartedAt: 2025-07-17 21:15:58 -0000 (Thu, 17 Jul 2025) EndedAt: 2025-07-17 21:16:24 -0000 (Thu, 17 Jul 2025) EllapsedTime: 26.1 seconds RetCode: 0 Status: OK