Package: flowMerge Version: 2.57.0 Command: /home/biocbuild/R/R/bin/R CMD check --install=check:flowMerge.install-out.txt --library=/home/biocbuild/R/R/site-library --no-vignettes --timings flowMerge_2.57.0.tar.gz StartedAt: 2025-07-18 06:51:14 -0000 (Fri, 18 Jul 2025) EndedAt: 2025-07-18 06:53:04 -0000 (Fri, 18 Jul 2025) EllapsedTime: 110.2 seconds RetCode: 0 Status: WARNINGS CheckDir: flowMerge.Rcheck Warnings: 1