Package: flowMerge Version: 2.57.0 Command: F:\biocbuild\bbs-3.22-bioc\R\bin\R.exe CMD INSTALL flowMerge StartedAt: 2025-07-22 15:45:03 -0400 (Tue, 22 Jul 2025) EndedAt: 2025-07-22 15:45:36 -0400 (Tue, 22 Jul 2025) EllapsedTime: 33.1 seconds RetCode: 0 Status: OK