Package: flowMerge Version: 2.57.0 Command: F:\biocbuild\bbs-3.22-bioc\R\bin\R.exe CMD check --no-multiarch --install=check:flowMerge.install-out.txt --library=F:\biocbuild\bbs-3.22-bioc\R\library --no-vignettes --timings flowMerge_2.57.0.tar.gz StartedAt: 2025-07-23 02:12:18 -0400 (Wed, 23 Jul 2025) EndedAt: 2025-07-23 02:14:07 -0400 (Wed, 23 Jul 2025) EllapsedTime: 108.4 seconds RetCode: 0 Status: WARNINGS CheckDir: flowMerge.Rcheck Warnings: 1