Package: flowMerge Version: 2.57.0 Command: chmod a+r flowMerge -R && F:\biocbuild\bbs-3.22-bioc\R\bin\R.exe CMD build --keep-empty-dirs --no-resave-data flowMerge StartedAt: 2025-07-22 19:08:56 -0400 (Tue, 22 Jul 2025) EndedAt: 2025-07-22 19:11:05 -0400 (Tue, 22 Jul 2025) EllapsedTime: 128.8 seconds RetCode: 0 Status: OK PackageFile: flowMerge_2.57.0.tar.gz PackageFileSize: 450.7 KiB