Package: flowMeans Version: 1.69.0 Command: F:\biocbuild\bbs-3.22-bioc\R\bin\R.exe CMD check --no-multiarch --install=check:flowMeans.install-out.txt --library=F:\biocbuild\bbs-3.22-bioc\R\library --no-vignettes --timings flowMeans_1.69.0.tar.gz StartedAt: 2025-08-15 03:19:00 -0400 (Fri, 15 Aug 2025) EndedAt: 2025-08-15 03:20:57 -0400 (Fri, 15 Aug 2025) EllapsedTime: 117.5 seconds RetCode: 0 Status: OK CheckDir: flowMeans.Rcheck Warnings: 0