Package: flowMeans Version: 1.69.0 Command: rm -rf flowMeans.buildbin-libdir && mkdir flowMeans.buildbin-libdir && F:\biocbuild\bbs-3.22-bioc\R\bin\R.exe CMD INSTALL --build --library=flowMeans.buildbin-libdir flowMeans_1.69.0.tar.gz StartedAt: 2025-08-15 10:17:15 -0400 (Fri, 15 Aug 2025) EndedAt: 2025-08-15 10:17:46 -0400 (Fri, 15 Aug 2025) EllapsedTime: 31.6 seconds RetCode: 0 Status: OK PackageFile: flowMeans_1.69.0.zip PackageFileSize: 3.455 MiB