Package: flowMatch Version: 1.45.0 Command: /Library/Frameworks/R.framework/Resources/bin/R CMD build --keep-empty-dirs --no-resave-data flowMatch StartedAt: 2025-07-22 16:19:57 -0400 (Tue, 22 Jul 2025) EndedAt: 2025-07-22 16:20:16 -0400 (Tue, 22 Jul 2025) EllapsedTime: 18.2 seconds RetCode: 0 Status: OK PackageFile: flowMatch_1.45.0.tar.gz PackageFileSize: 3.676 MiB